{"text_format":"1","workbook":"xlsx","n_sheets":5,"sheets":["Mannschaften","Vorrunde","Finalrunde","Spielplan","Spielberichtsbogen blanko"],"not_rendered":{"charts":0,"images":0,"macros":1,"external_links":0,"defined_names":2,"comments":0,"pivot_tables":0},"unopened":[],"bounds":{"document_bytes":16777216,"sheet_cells":100000,"rows_first":2000,"rows_last":500,"rows_between":2000,"halvings":0,"cell_chars":16384,"cell_head_chars":4096},"cells_cut":0,"cells_raw":0,"read":"whole","date_system":"1900"}

{"sheet":"Mannschaften","index":0,"n_rows":29,"n_cols":3,"rows_kept":29,"cut":false,"hidden":false,"merged":[[26,2,26,5],[28,2,28,5],[18,2,18,5],[20,2,20,5],[22,2,22,5],[24,2,24,5],[16,2,16,5],[0,0,0,7],[2,0,2,7],[4,0,4,7],[6,2,6,5],[8,2,8,5],[10,2,10,5],[12,2,12,5],[14,2,14,5]]}
["Turniername"]
[]
["Volleyball Hallenturnier"]
[]
["Termin/Ort"]
[]
[null,"1A",1]
[]
[null,"2A","2"]
[]
[null,"3A","3"]
[]
[null,"4A","4"]
[]
[null,"5A","5"]
[]
[null,"6A"]
[]
[null,"1B","6"]
[]
[null,"2B","7"]
[]
[null,"3B","8"]
[]
[null,"4B","9"]
[]
[null,"5B"]
[]
[null,"6B"]

{"sheet":"Vorrunde","index":1,"n_rows":59,"n_cols":35,"rows_kept":59,"cut":false,"hidden":false,"merged":[[47,14,47,16],[47,26,47,27],[54,14,54,16],[54,26,54,27],[1,0,1,31],[3,0,3,31],[5,0,5,31],[12,0,12,3],[12,4,12,7],[18,9,18,15],[17,5,17,7],[17,1,17,3],[15,5,15,7],[11,0,11,3],[14,1,14,3],[14,5,14,7],[14,9,14,15],[15,1,15,3],[15,9,15,15],[16,1,16,3],[16,5,16,7],[22,26,22,28],[22,11,22,13],[22,14,22,16],[22,29,22,31],[22,32,22,34],[22,17,22,19],[22,20,22,22],[22,23,22,25],[42,3,42,5],[42,7,42,10],[39,3,39,5],[39,7,39,10],[40,3,40,5],[40,7,40,10],[41,3,41,5],[41,7,41,10],[10,0,10,7],[11,4,11,7],[24,3,24,5],[24,7,24,10],[32,3,32,5],[32,7,32,10],[22,3,22,7],[23,3,23,5],[23,7,23,10],[16,9,16,15],[12,8,12,15],[13,1,13,3],[13,5,13,7],[13,9,13,15],[18,1,18,3],[18,5,18,7],[36,32,36,34],[37,3,37,5],[37,7,37,10],[38,3,38,5],[38,7,38,10],[36,20,36,22],[36,23,36,25],[36,26,36,28],[36,29,36,31],[36,3,36,7],[36,11,36,13],[36,14,36,16],[36,17,36,19]]}
[]
[{"$f":"Mannschaften!$A$1","v":"Turniername"}]
[]
[{"$f":"Mannschaften!$A$3","v":"Volleyball Hallenturnier"}]
[]
[{"$f":"Mannschaften!$A$5","v":"Termin/Ort"}]
[]
[]
["I. Teilnehmende Mannschaften"]
[]
["Teilnehmende Mannschaften"]
["Staffel 1",null,null,null,"Staffel 2"]
[]
[1,{"$f":"Mannschaften!$C$7","v":1},null,null,6,{"$f":"Mannschaften!$C$19","v":"6"}]
[2,{"$f":"Mannschaften!$C$9","v":"2"},null,null,7,{"$f":"Mannschaften!$C$21","v":"7"}]
[3,{"$f":"Mannschaften!$C$11","v":"3"},null,null,8,{"$f":"Mannschaften!$C$23","v":"8"}]
[4,{"$f":"Mannschaften!$C$13","v":"4"},null,null,9,{"$f":"Mannschaften!$C$25","v":"9"}]
[5,{"$f":"Mannschaften!$C$15","v":"5"}]
[]
[]
["Staffel 1"]
[]
["Spielnr.","Feld","SR","Spielparungen",null,null,null,null,null,null,null,"1.Satz",null,null,"2.Satz",null,null,"3.Satz",null,null,"4. Satz",null,null,"5. Satz",null,null,"Sätze",null,null,"Punkte",null,null,"Bälle"]
[1,1,{"$f":"$F$16","v":"8"},{"$f":"$B$14","v":1},null,null,":",{"$f":"$B$15","v":"2"},null,null,null,null,":",null,null,":",null,null,":",null,null,":",null,null,":",null,{"$f":"IF(L24>N24,1,0)+IF(O24>Q24,1,0)+IF(R24>T24,1,0)+IF(U24>W24,1,0)+IF(X24>Z24,1,0)","v":0},":",{"$f":"IF(N24>L24,1,0)+IF(Q24>O24,1,0)+IF(T24>R24,1,0)+IF(W24>U24,1,0)+IF(Z24>X24,1,0)","v":0},{"$f":"IF((AA24=0),\"0\",IF(AA24>AC24,2,IF(AA24=AC24,IF(AG24>AI24,2,0),0)))","v":"0"},":",{"$f":"IF((AC24=0),\"0\",IF(AC24>AA24,2,IF(AC24=AA24,IF(AI24>AG24,2,0),0)))","v":"0"},{"$f":"L24+O24+R24+U24+X24","v":0},":",{"$f":"N24+Q24+T24+W24+Z24","v":0}]
[2,2,{"$f":"$F$17","v":"9"},{"$f":"$B$16","v":"3"},null,null,":",{"$f":"$B$17","v":"4"},null,null,null,null,":",null,null,":",null,null,":",null,null,":",null,null,":",null,0,":",0,{"$f":"IF((AA25=0),\"0\",IF(AA25>AC25,2,IF(AA25=AC25,IF(AG25>AI25,2,0),0)))","v":"0"},":",{"$f":"IF((AC25=0),\"0\",IF(AC25>AA25,2,IF(AC25=AA25,IF(AI25>AG25,2,0),0)))","v":"0"},0,":",0]
[4,1,{"$f":"$F$14","v":"6"},{"$f":"$B$14","v":1},null,null,":",{"$f":"$B$18","v":"5"},null,null,null,null,":",null,null,":",null,null,":",null,null,":",null,null,":",null,0,":",0,"0",":","0",0,":",0]
[5,2,{"$f":"$F$15","v":"7"},{"$f":"$B$15","v":"2"},null,null,":",{"$f":"$B$16","v":"3"},null,null,null,null,":",null,null,":",null,null,":",null,null,":",null,null,":",null,0,":",0,"0",":","0",0,":",0]
[7,1,{"$f":"$F$15","v":"7"},{"$f":"$B$17","v":"4"},null,null,":",{"$f":"$B$18","v":"5"},null,null,null,null,":",null,null,":",null,null,":",null,null,":",null,null,":",null,0,":",0,"0",":","0",0,":",0]
[8,2,{"$f":"$F$17","v":"9"},{"$f":"$B$14","v":1},null,null,":",{"$f":"$B$16","v":"3"},null,null,null,null,":",null,null,":",null,null,":",null,null,":",null,null,":",null,0,":",0,"0",":","0",0,":",0]
[10,1,{"$f":"$F$14","v":"6"},{"$f":"$B$15","v":"2"},null,null,":",{"$f":"$B$17","v":"4"},null,null,null,null,":",null,null,":",null,null,":",null,null,":",null,null,":",null,0,":",0,"0",":","0",0,":",0]
[11,2,{"$f":"$F$16","v":"8"},{"$f":"$B$16","v":"3"},null,null,":",{"$f":"$B$18","v":"5"},null,null,null,null,":",null,null,":",null,null,":",null,null,":",null,null,":",null,0,":",0,"0",":","0",0,":",0]
[13,1,{"$f":"$B$15","v":"2"},{"$f":"$B$14","v":1},null,null,":",{"$f":"$B$17","v":"4"},null,null,null,null,":",null,null,":",null,null,":",null,null,":",null,null,":",null,0,":",0,"0",":","0",0,":",0]
[16,2,{"$f":"$B$17","v":"4"},{"$f":"$B$15","v":"2"},null,null,":",{"$f":"$B$18","v":"5"},null,null,null,null,":",null,null,":",null,null,":",null,null,":",null,null,":",null,0,":",0,"0",":","0",0,":",0]
[]
["Staffel 2"]
[]
["Spielnr.","Feld","SR","Spielparungen",null,null,null,null,null,null,null,"1.Satz",null,null,"2.Satz",null,null,"3.Satz",null,null,"4.Satz",null,null,"5.Satz",null,null,"Sätze",null,null,"Punkte",null,null,"Bälle"]
[3,3,{"$f":"$B$18","v":"5"},{"$f":"$F$14","v":"6"},null,null,":",{"$f":"$F$15","v":"7"},null,null,null,null,":",null,null,":",null,null,":",null,null,":",null,null,":",null,{"$f":"IF(L38>N38,1,0)+IF(O38>Q38,1,0)+IF(R38>T38,1,0)+IF(U38>W38,1,0)+IF(X38>Z38,1,0)","v":0},":",{"$f":"IF(N38>L38,1,0)+IF(Q38>O38,1,0)+IF(T38>R38,1,0)+IF(W38>U38,1,0)+IF(Z38>X38,1,0)","v":0},{"$f":"IF((AA38=0),\"0\",IF(AA38>AC38,2,IF(AA38=AC38,IF(AG38>AI38,2,0),0)))","v":"0"},":",{"$f":"IF((AC38=0),\"0\",IF(AC38>AA38,2,IF(AC38=AA38,IF(AI38>AG38,2,0),0)))","v":"0"},{"$f":"L38+O38+R38+U38+X38","v":0},":",{"$f":"N38+Q38+T38+W38+Z38","v":0}]
[6,3,{"$f":"$B$17","v":"4"},{"$f":"$F$16","v":"8"},null,null,":",{"$f":"$F$17","v":"9"},null,null,null,null,":",null,null,":",null,null,":",null,null,":",null,null,":",null,{"$f":"IF(L39>N39,1,0)+IF(O39>Q39,1,0)+IF(R39>T39,1,0)+IF(U39>W39,1,0)+IF(X39>Z39,1,0)","v":0},":",{"$f":"IF(N39>L39,1,0)+IF(Q39>O39,1,0)+IF(T39>R39,1,0)+IF(W39>U39,1,0)+IF(Z39>X39,1,0)","v":0},{"$f":"IF((AA39=0),\"0\",IF(AA39>AC39,2,IF(AA39=AC39,IF(AG39>AI39,2,0),0)))","v":"0"},":",{"$f":"IF((AC39=0),\"0\",IF(AC39>AA39,2,IF(AC39=AA39,IF(AI39>AG39,2,0),0)))","v":"0"},{"$f":"L39+O39+R39+U39+X39","v":0},":",{"$f":"N39+Q39+T39+W39+Z39","v":0}]
[9,3,{"$f":"$B$15","v":"2"},{"$f":"$F$14","v":"6"},null,null,":",{"$f":"$F$16","v":"8"},null,null,null,null,":",null,null,":",null,null,":",null,null,":",null,null,":",null,0,":",0,"0",":","0",0,":",0]
[12,3,{"$f":"$B$14","v":1},{"$f":"$F$15","v":"7"},null,null,":",{"$f":"$F$17","v":"9"},null,null,null,null,":",null,null,":",null,null,":",null,null,":",null,null,":",null,0,":",0,"0",":","0",0,":",0]
[14,2,{"$f":"$B$16","v":"3"},{"$f":"$F$14","v":"6"},null,null,":",{"$f":"$F$17","v":"9"},null,null,null,null,":",null,null,":",null,null,":",null,null,":",null,null,":",null,0,":",0,"0",":","0",0,":",0]
[15,3,{"$f":"$B$18","v":"5"},{"$f":"$F$15","v":"7"},null,null,":",{"$f":"$F$16","v":"8"},null,null,null,null,":",null,null,":",null,null,":",null,null,":",null,null,":",null,0,":",0,"0",":","0",0,":",0]
[]
[]
[]
[]
[null,null,null,"Zwischentabelle Staffel 1",null,null,null,null,null,null,"Pkt.","Sätze",null,null,"Diff.",null,null,"Bälle",null,null,null,null,null,null,null,null,"Diff."]
[null,null,"1.",{"$f":"$B$14","v":1},null,null,null,null,null,null,{"$f":"$AD$24+$AD$26+$AD$29+$AD$32","v":0},{"$f":"$AA$24+$AA$26+$AA$29+$AA$32","v":0},":",{"$f":"$AC$24+$AC$26+$AC$29+$AC$32","v":0},{"$f":"L49-N49","v":0},null,null,{"$f":"$AG$24+$AG$26+$AG$29+$AG$32","v":0},":",{"$f":"$AI$24+$AI$26+$AI$29+$AI$32","v":0},null,null,null,null,null,null,{"$f":"R49-T49","v":0}]
[null,null,"2.",{"$f":"$B$16","v":"3"},null,null,null,null,null,null,{"$f":"$AD$25+$AF$27+$AF$29+$AD$31","v":0},{"$f":"$AA$25+$AC$27+$AC$29+$AA$31","v":0},":",{"$f":"$AC$25+$AA$27+$AA$29+$AC$31","v":0},{"$f":"L50-N50","v":0},null,null,{"$f":"$AG$25+$AI$27+$AI$29+$AG$31","v":0},":",{"$f":"$AI$25+$AG$27+$AG$29+$AI$31","v":0},null,null,null,null,null,null,{"$f":"R50-T50","v":0}]
[null,null,"3.",{"$f":"$B$18","v":"5"},null,null,null,null,null,null,{"$f":"$AF$26+$AF$28+$AF$31+$AF$33","v":0},{"$f":"$AC$26+$AC$28+$AC$31+$AC$33","v":0},null,{"$f":"$AA$26+$AA$28+$AA$31+$AA$33","v":0},{"$f":"L51-N51","v":0},null,null,{"$f":"$AI$26+$AI$28+$AI$31+$AI$33","v":0},null,{"$f":"$AG$26+$AG$28+$AG$31+$AG$33","v":0},null,null,null,null,null,null,{"$f":"R51-T51","v":0}]
[null,null,"4.",{"$f":"$B$17","v":"4"},null,null,null,null,null,null,{"$f":"$AF$25+$AD$28+$AF$30+$AF$32","v":0},{"$f":"$AC$25+$AA$28+$AC$30+$AC$32","v":0},null,{"$f":"$AA$25+$AC$28+$AA$30+$AA$32","v":0},{"$f":"L52-N52","v":0},null,null,{"$f":"$AI$25+$AG$28+$AI$30+$AI$32","v":0},null,{"$f":"$AG$25+$AI$28+$AG$30+$AG$32","v":0},null,null,null,null,null,null,{"$f":"R52-T52","v":0}]
[null,null,"5.",{"$f":"$B$15","v":"2"},null,null,null,null,null,null,{"$f":"$AF$24+$AD$27+$AD$30+$AD$33","v":0},{"$f":"$AC$24+$AA$27+$AA$30+$AA$33","v":0},":",{"$f":"$AA$24+$AC$27+$AC$30+$AC$33","v":0},{"$f":"L53-N53","v":0},null,null,{"$f":"$AI$24+$AG$27+$AG$30+$AG$33","v":0},":",{"$f":"$AG$24+$AI$27+$AI$30+$AI$33","v":0},null,null,null,null,null,null,{"$f":"R53-T53","v":0}]
[]
[null,null,null,"Zwischentabelle Staffel 2",null,null,null,null,null,null,"Pkt.","Sätze",null,null,"Diff.",null,null,"Bälle",null,null,null,null,null,null,null,null,"Diff."]
[null,null,"1.",{"$f":"$F$16","v":"8"},null,null,null,null,null,null,{"$f":"$AD$39+$AF$40+$AF$43","v":0},{"$f":"$AA$39+$AC$40+$AC$43","v":0},":",{"$f":"$AC$39+$AA$40+$AA$43","v":0},{"$f":"L56-N56","v":0},null,null,{"$f":"$AG$39+$AI$40+$AI$43","v":0},null,{"$f":"$AI$39+$AG$40+$AG$43","v":0},null,null,null,null,null,null,{"$f":"R56-T56","v":0}]
[null,null,"2.",{"$f":"$F$15","v":"7"},null,null,null,null,null,null,{"$f":"$AF$38+$AD$41+$AD$43","v":0},{"$f":"$AC$38+$AA$41+$AA$43","v":0},":",{"$f":"$AA$38+$AC$41+$AC$43","v":0},{"$f":"L57-N57","v":0},null,null,{"$f":"$AI$38+$AG$41+$AG$43","v":0},":",{"$f":"$AG$38+$AI$41+$AI$43","v":0},null,null,null,null,null,null,{"$f":"R57-T57","v":0}]
[null,null,"3.",{"$f":"$F$17","v":"9"},null,null,null,null,null,null,{"$f":"$AF$39+$AF$41+$AF$42","v":0},{"$f":"$AC$39+$AC$41+$AC$42","v":0},":",{"$f":"$AA$39+$AA$41+$AA$42","v":0},{"$f":"L58-N58","v":0},null,null,{"$f":"$AI$39+$AI$41+$AI$42","v":0},":",{"$f":"$AG$39+$AG$41+$AG$42","v":0},null,null,null,null,null,null,{"$f":"R58-T58","v":0}]
[null,null,"4.",{"$f":"$F$14","v":"6"},null,null,null,null,null,null,{"$f":"$AD$38+$AD$40+$AD$42","v":0},{"$f":"$AA$38+$AA$40+$AA$42","v":0},":",{"$f":"$AC$38+$AC$40+$AC$42","v":0},{"$f":"L59-N59","v":0},null,null,{"$f":"$AG$38+$AG$40+$AG$42","v":0},":",{"$f":"$AI$38+$AI$40+$AI$42","v":0},null,null,null,null,null,null,{"$f":"R59-T59","v":0}]

{"sheet":"Finalrunde","index":2,"n_rows":52,"n_cols":35,"rows_kept":52,"cut":false,"hidden":false,"merged":[[36,33,37,33],[36,34,37,34],[36,27,37,27],[36,28,37,28],[36,29,37,29],[36,23,37,23],[36,24,37,24],[36,25,37,25],[36,26,37,26],[36,20,37,20],[36,21,37,21],[36,22,37,22],[36,31,37,31],[36,32,37,32],[35,20,35,22],[35,23,35,25],[22,20,23,20],[22,22,23,22],[22,21,23,21],[17,32,17,34],[17,14,17,16],[17,17,17,19],[17,26,17,28],[17,29,17,31],[17,20,17,22],[17,23,17,25],[18,30,19,30],[18,31,19,31],[18,32,19,32],[18,33,19,33],[18,26,19,26],[18,27,19,27],[20,22,21,22],[20,21,21,21],[20,23,21,23],[27,23,27,25],[27,26,27,28],[27,29,27,31],[27,32,27,34],[28,24,29,24],[28,25,29,25],[28,34,29,34],[35,32,35,34],[35,26,35,28],[35,29,35,31],[34,3,34,5],[34,7,34,10],[30,3,30,5],[30,7,30,10],[37,3,37,5],[37,7,37,10],[17,11,17,13],[18,12,19,12],[18,13,19,13],[28,12,29,12],[28,13,29,13],[35,3,35,7],[35,11,35,13],[10,0,11,0],[10,1,11,1],[10,2,11,2],[10,33,11,33],[10,30,11,30],[10,25,11,25],[10,26,11,26],[10,27,11,27],[10,28,11,28],[28,3,28,5],[28,7,28,10],[18,3,18,5],[18,7,18,10],[17,3,17,7],[12,3,12,5],[12,7,12,10],[13,3,13,5],[13,7,13,10],[9,32,9,34],[10,3,10,5],[10,7,10,10],[10,16,11,16],[10,15,11,15],[10,18,11,18],[10,17,11,17],[10,19,11,19],[10,20,11,20],[11,3,11,5],[11,7,11,10],[10,12,11,12],[10,13,11,13],[10,14,11,14],[10,11,11,11],[10,31,11,31],[10,32,11,32],[10,34,11,34],[1,0,1,31],[3,0,3,31],[5,0,5,31],[9,3,9,7],[9,11,9,13],[9,14,9,16],[9,17,9,19],[9,20,9,22],[9,23,9,25],[9,26,9,28],[9,29,9,31],[10,29,11,29],[10,22,11,22],[10,21,11,21],[10,23,11,23],[10,24,11,24],[12,22,13,22],[12,23,13,23],[12,16,13,16],[12,17,13,17],[12,18,13,18],[12,19,13,19],[12,34,13,34],[12,0,13,0],[12,1,13,1],[12,2,13,2],[12,28,13,28],[12,29,13,29],[12,30,13,30],[12,31,13,31],[12,24,13,24],[12,25,13,25],[12,15,13,15],[12,11,13,11],[12,13,13,13],[12,14,13,14],[12,12,13,12],[18,0,19,0],[18,1,19,1],[18,2,19,2],[18,11,19,11],[12,32,13,32],[12,33,13,33],[12,26,13,26],[12,27,13,27],[12,20,13,20],[12,21,13,21],[18,18,19,18],[18,19,19,19],[18,20,19,20],[18,21,19,21],[18,14,19,14],[18,15,19,15],[18,16,19,16],[18,17,19,17],[18,28,19,28],[18,29,19,29],[18,22,19,22],[18,23,19,23],[18,24,19,24],[18,25,19,25],[28,0,29,0],[28,1,29,1],[28,2,29,2],[28,11,29,11],[18,34,19,34],[27,3,27,7],[27,11,27,13],[27,14,27,16],[27,17,27,19],[27,20,27,22],[28,18,29,18],[28,19,29,19],[28,20,29,20],[28,21,29,21],[28,14,29,14],[28,15,29,15],[28,16,29,16],[28,17,29,17],[28,26,29,26],[28,27,29,27],[28,28,29,28],[28,29,29,29],[28,22,29,22],[28,23,29,23],[14,11,16,34],[19,3,19,5],[19,7,19,10],[29,3,29,5],[29,7,29,10],[28,30,29,30],[28,31,29,31],[28,32,29,32],[28,33,29,33],[20,13,21,13],[22,13,23,13],[20,14,21,14],[20,15,21,15],[20,16,21,16],[22,14,23,14],[22,15,23,15],[22,16,23,16],[20,17,21,17],[22,17,23,17],[20,18,21,18],[22,18,23,18],[20,19,21,19],[22,19,23,19],[20,20,21,20],[36,1,37,1],[36,2,37,2],[36,11,37,11],[36,12,37,12],[36,13,37,13],[36,14,37,14],[35,14,35,16],[35,17,35,19],[36,15,37,15],[36,16,37,16],[36,17,37,17],[36,18,37,18],[36,19,37,19],[36,3,36,5],[36,7,36,10],[36,30,37,30],[38,7,38,10],[38,11,39,11],[38,12,39,12],[38,13,39,13],[38,0,39,0],[38,1,39,1],[38,2,39,2],[38,3,38,5],[38,18,39,18],[38,19,39,19],[38,20,39,20],[38,21,39,21],[38,14,39,14],[38,15,39,15],[38,16,39,16],[38,17,39,17],[38,28,39,28],[38,29,39,29],[38,22,39,22],[38,23,39,23],[38,24,39,24],[38,25,39,25],[36,0,37,0],[38,34,39,34],[39,3,39,5],[39,7,39,10],[40,11,42,34],[38,30,39,30],[38,31,39,31],[38,32,39,32],[38,33,39,33],[38,26,39,26],[38,27,39,27],[43,14,43,16],[43,17,43,19],[44,11,45,11],[44,12,45,12],[44,13,45,13],[44,14,45,14],[43,20,43,22],[43,23,43,25],[44,15,45,15],[44,16,45,16],[44,17,45,17],[44,18,45,18],[43,32,43,34],[44,0,45,0],[44,1,45,1],[44,2,45,2],[44,3,44,5],[44,7,44,10],[44,25,45,25],[44,26,45,26],[44,19,45,19],[44,20,45,20],[44,21,45,21],[44,22,45,22],[44,31,45,31],[44,32,45,32],[44,33,45,33],[44,34,45,34],[44,27,45,27],[44,28,45,28],[44,29,45,29],[44,30,45,30],[43,26,43,28],[43,29,43,31],[43,3,43,7],[43,11,43,13],[49,14,49,16],[49,17,49,19],[49,20,49,22],[49,23,49,25],[45,3,45,5],[45,7,45,10],[49,3,49,7],[49,11,49,13],[44,23,45,23],[44,24,45,24],[49,26,49,28],[49,29,49,31],[49,32,49,34],[50,0,51,0],[50,1,51,1],[50,2,51,2],[50,3,50,5],[50,7,50,10],[50,11,51,11],[50,12,51,12],[50,17,51,17],[50,18,51,18],[50,19,51,19],[50,20,51,20],[50,13,51,13],[50,14,51,14],[50,15,51,15],[50,16,51,16],[50,27,51,27],[50,28,51,28],[50,21,51,21],[50,22,51,22],[50,23,51,23],[50,24,51,24],[50,33,51,33],[50,34,51,34],[51,3,51,5],[51,7,51,10],[50,29,51,29],[50,30,51,30],[50,31,51,31],[50,32,51,32],[50,25,51,25],[50,26,51,26],[20,24,21,24],[20,25,21,25],[22,25,23,25],[20,26,21,26],[22,26,23,26],[20,27,21,27],[22,27,23,27],[20,0,21,0],[22,0,23,0],[20,1,21,1],[22,1,23,1],[20,2,21,2],[22,2,23,2],[20,11,21,11],[22,11,23,11],[20,12,21,12],[22,12,23,12],[20,33,21,33],[22,33,23,33],[20,34,21,34],[22,34,23,34],[23,3,23,5],[22,3,22,5],[21,3,21,5],[20,3,20,5],[20,7,20,10],[21,7,21,10],[22,7,22,10],[23,7,23,10],[20,28,21,28],[22,28,23,28],[20,29,21,29],[22,29,23,29],[20,30,21,30],[22,30,23,30],[20,31,21,31],[22,31,23,31],[20,32,21,32],[22,32,23,32],[22,23,23,23],[22,24,23,24]]}
[]
[{"$f":"Mannschaften!$A$1","v":"Turniername"}]
[]
[{"$f":"Mannschaften!$A$3","v":"Volleyball Hallenturnier"}]
[]
[{"$f":"Mannschaften!$A$5","v":"Termin/Ort"}]
[]
["Zwischenrunde und Plazierungsspiele 5-9"]
[]
["Spielnr.","Feld","SR","Spielparungen",null,null,null,null,null,null,null,"1.Satz",null,null,"2.Satz",null,null,"3.Satz",null,null,"4. Satz",null,null,"5. Satz",null,null,"Sätze",null,null,"Punkte",null,null,"Bälle"]
[17,1,{"$f":"Vorrunde!$D$50","v":"3"},{"$f":"Vorrunde!$D$51","v":"5"},null,null,":",{"$f":"Vorrunde!$D$59","v":"6"},null,null,null,null,":",null,null,":",null,null,":",null,null,":",null,null,":",null,{"$f":"IF(L11>N11,1,0)+IF(O11>Q11,1,0)+IF(R11>T11,1,0)+IF(U11>W11,1,0)+IF(X11>Z11,1,0)","v":0},":",{"$f":"IF(L11<N11,1,0)+IF(O11<Q11,1,0)+IF(R11<T11,1,0)+IF(U11<W11,1,0)+IF(X11<Z11,1,0)","v":0},{"$f":"IF(AA11=0,0,IF(AA11>AC11,2,IF(AA11=AC11,1,0)))","v":0},":",{"$f":"IF(AC11=0,0,IF(AC11>AA11,2,IF(AC11=AA11,1,0)))","v":0},{"$f":"SUM(L11+O11+R11+U11+X11)","v":0},":",{"$f":"SUM(N11+Q11+T11+W11+Z11)","v":0}]
[null,null,null,"3. Staffel 1",null,null,null,"4. Staffel 2"]
[18,2,{"$f":"Vorrunde!$D$57","v":"7"},{"$f":"Vorrunde!$D$52","v":"4"},null,null,":",{"$f":"Vorrunde!$D$58","v":"9"},null,null,null,null,":",null,null,":",null,null,":",null,null,":",null,null,":",null,{"$f":"IF(L13>N13,1,0)+IF(O13>Q13,1,0)+IF(R13>T13,1,0)+IF(U13>W13,1,0)+IF(X13>Z13,1,0)","v":0},":",{"$f":"IF(L13<N13,1,0)+IF(O13<Q13,1,0)+IF(R13<T13,1,0)+IF(U13<W13,1,0)+IF(X13<Z13,1,0)","v":0},{"$f":"IF(AA13=0,0,IF(AA13>AC13,2,IF(AA13=AC13,1,0)))","v":0},":",{"$f":"IF(AC13=0,0,IF(AC13>AA13,2,IF(AC13=AA13,1,0)))","v":0},{"$f":"SUM(L13+O13+R13+U13+X13)","v":0},":",{"$f":"SUM(N13+Q13+T13+W13+Z13)","v":0}]
[null,null,null,"4. Staffel 1",null,null,null,"3. Staffel 2"]
[]
["Spiel um Platz 7 bis 9"]
[]
["Spielnr.","Feld","SR","Spielparungen",null,null,null,null,null,null,null,"1.Satz",null,null,"2.Satz",null,null,"3.Satz",null,null,"4. Satz",null,null,"5. Satz",null,null,"Sätze",null,null,"Punkte",null,null,"Bälle"]
[21,2,{"$f":"$H$21","v":"9"},{"$f":"Vorrunde!$D$53","v":"2"},null,null,":",{"$f":"IF(AD11<AF11,D11,H11)","v":"6"},null,null,null,null,":",null,null,":",null,null,":",null,null,":",null,null,":",null,{"$f":"IF(L19>N19,1,0)+IF(O19>Q19,1,0)+IF(R19>T19,1,0)+IF(U19>W19,1,0)+IF(X19>Z19,1,0)","v":0},":",{"$f":"IF(L19<N19,1,0)+IF(O19<Q19,1,0)+IF(R19<T19,1,0)+IF(U19<W19,1,0)+IF(X19<Z19,1,0)","v":0},{"$f":"IF(AA19=0,0,IF(AA19>AC19,2,IF(AA19=AC19,IF(AG19>AI19,2,0),0)))","v":0},":",{"$f":"IF(AC19=0,0,IF(AC19>AA19,2,IF(AC19=AA19,IF(AI19>AG19,2,0),0)))","v":0},{"$f":"SUM(L19+O19+R19+U19+X19)","v":0},":",{"$f":"SUM(N19+Q19+T19+W19+Z19)","v":0}]
[null,null,null,"5. Staffel 1",null,null,null,"V 17"]
[22,2,{"$f":"$H$19","v":"6"},{"$f":"Vorrunde!$D$53","v":"2"},null,null,":",{"$f":"IF(AD13<AF13,D13,H13)","v":"9"},null,null,null,null,null,null,null,null,null,null,null,null,null,null,null,null,null,null,{"$f":"IF(L21>N21,1,0)+IF(O21>Q21,1,0)+IF(R21>T21,1,0)+IF(U21>W21,1,0)+IF(X21>Z21,1,0)","v":0},":",{"$f":"IF(L21<N21,1,0)+IF(O21<Q21,1,0)+IF(R21<T21,1,0)+IF(U21<W21,1,0)+IF(X21<Z21,1,0)","v":0},{"$f":"IF(AA21=0,0,IF(AA21>AC21,2,IF(AA21=AC21,IF(AG21>AI21,2,0),0)))","v":0},":",{"$f":"IF(AC21=0,0,IF(AC21>AA21,2,IF(AC21=AA21,IF(AI21>AG21,2,0),0)))","v":0},{"$f":"SUM(L21+O21+R21+U21+X21)","v":0},":",{"$f":"SUM(N21+Q21+T21+W21+Z21)","v":0}]
[null,null,null,"5. Staffel 1",null,null,null,"V 18"]
[23,2,{"$f":"$D$19","v":"2"},{"$f":"IF(AD11<AF11,D11,H11)","v":"6"},null,null,":",{"$f":"IF(AD13<AF13,D13,H13)","v":"9"},null,null,null,null,null,null,null,null,null,null,null,null,null,null,null,null,null,null,{"$f":"IF(L23>N23,1,0)+IF(O23>Q23,1,0)+IF(R23>T23,1,0)+IF(U23>W23,1,0)+IF(X23>Z23,1,0)","v":0},":",{"$f":"IF(L23<N23,1,0)+IF(O23<Q23,1,0)+IF(R23<T23,1,0)+IF(U23<W23,1,0)+IF(X23<Z23,1,0)","v":0},{"$f":"IF(AA23=0,0,IF(AA23>AC23,2,IF(AA23=AC23,IF(AG23>AI23,2,0),0)))","v":0},":",{"$f":"IF(AC23=0,0,IF(AC23>AA23,2,IF(AC23=AA23,IF(AI23>AG23,2,0),0)))","v":0},{"$f":"SUM(L23+O23+R23+U23+X23)","v":0},":",{"$f":"SUM(N23+Q23+T23+W23+Z23)","v":0}]
[null,null,null,"V 17",null,null,null,"V 18"]
[]
["Spiel um Platz 5"]
[]
["Spielnr.","Feld","SR","Spielparungen",null,null,null,null,null,null,null,"1.Satz",null,null,"2.Satz",null,null,"3.Satz",null,null,"4. Satz",null,null,"5. Satz",null,null,"Sätze",null,null,"Punkte",null,null,"Bälle"]
[24,3,{"$f":"$D$51","v":"7"},{"$f":"IF(AD11>AF11,D11,H11)","v":"6"},null,null,":",{"$f":"IF(AD13>AF13,D13,H13)","v":"9"},null,null,null,null,":",null,null,":",null,null,":",null,null,":",null,null,":",null,{"$f":"IF(L29>N29,1,0)+IF(O29>Q29,1,0)+IF(R29>T29,1,0)+IF(U29>W29,1,0)+IF(X29>Z29,1,0)","v":0},":",{"$f":"IF(L29<N29,1,0)+IF(O29<Q29,1,0)+IF(R29<T29,1,0)+IF(U29<W29,1,0)+IF(X29<Z29,1,0)","v":0},{"$f":"IF(AA29=0,0,IF(AA29>AC29,2,IF(AA29=AC29,IF(AG29>AI29,2,0),0)))","v":0},":",{"$f":"IF(AC29=0,0,IF(AC29>AA29,2,IF(AC29=AA29,IF(AI29>AG29,2,0),0)))","v":0},{"$f":"SUM(L29+O29+R29+U29+X29)","v":0},":",{"$f":"SUM(N29+Q29+T29+W29+Z29)","v":0}]
[null,null,null,"S 17",null,null,null,"S 18"]
[]
[]
[]
["Halbfinals und Plazierungen"]
[]
["Spielnr.","Feld","SR","Spielparungen",null,null,null,null,null,null,null,"1.Satz",null,null,"2.Satz",null,null,"3.Satz",null,null,"4. Satz",null,null,"5. Satz",null,null,"Sätze",null,null,"Punkte",null,null,"Bälle"]
[19,1,{"$f":"$D$29","v":"6"},{"$f":"Vorrunde!$D$49","v":1},null,null,":",{"$f":"Vorrunde!$D$57","v":"7"},null,null,null,null,":",null,null,":",null,null,":",null,null,":",null,null,":",null,{"$f":"IF(L37>N37,1,0)+IF(O37>Q37,1,0)+IF(R37>T37,1,0)+IF(U37>W37,1,0)+IF(X37>Z37,1,0)","v":0},":",{"$f":"IF(L37<N37,1,0)+IF(O37<Q37,1,0)+IF(R37<T37,1,0)+IF(U37<W37,1,0)+IF(X37<Z37,1,0)","v":0},{"$f":"IF(AA37=0,0,IF(AA37>AC37,2,IF(AA37=AC37,IF(AG37>AI37,2,0),0)))","v":0},":",{"$f":"IF(AC37=0,0,IF(AC37>AA37,2,IF(AC37=AA37,IF(AI37>AG37,2,0),0)))","v":0},{"$f":"SUM(L37+O37+R37+U37+X37)","v":0},":",{"$f":"SUM(N37+Q37+T37+W37+Z37)","v":0}]
[null,null,null,"1. Staffel 1",null,null,null,"2. Staffel 2"]
[20,2,{"$f":"$H$29","v":"9"},{"$f":"Vorrunde!$D$50","v":"3"},null,null,":",{"$f":"Vorrunde!$D$56","v":"8"},null,null,null,null,":",null,null,":",null,null,":",null,null,":",null,null,":",null,{"$f":"IF(L39>N39,1,0)+IF(O39>Q39,1,0)+IF(R39>T39,1,0)+IF(U39>W39,1,0)+IF(X39>Z39,1,0)","v":0},":",{"$f":"IF(L39<N39,1,0)+IF(O39<Q39,1,0)+IF(R39<T39,1,0)+IF(U39<W39,1,0)+IF(X39<Z39,1,0)","v":0},{"$f":"IF(AA39=0,0,IF(AA39>AC39,2,IF(AA39=AC39,IF(AG39>AI39,2,0),0)))","v":0},":",{"$f":"IF(AC39=0,0,IF(AC39>AA39,2,IF(AC39=AA39,IF(AI39>AG39,2,0),0)))","v":0},{"$f":"SUM(L39+O39+R39+U39+X39)","v":0},":",{"$f":"SUM(N39+Q39+T39+W39+Z39)","v":0}]
[null,null,null,"2. Staffel 1",null,null,null,"1. Staffel 2"]
[]
["Spiel um Platz 3"]
[]
["Spielnr.","Feld","SR","Spielparungen",null,null,null,null,null,null,null,"1.Satz",null,null,"2.Satz",null,null,"3.Satz",null,null,"4. Satz",null,null,"5. Satz",null,null,"Sätze",null,null,"Punkte",null,null,"Bälle"]
[25,3,{"$f":"$H$51","v":"8"},{"$f":"IF(AA37<AC37,D37,H37)","v":"7"},null,null,":",{"$f":"IF(AD39<AF39,D39,H39)","v":"8"},null,null,null,null,":",null,null,":",null,null,":",null,null,":",null,null,":",null,{"$f":"IF(L45>N45,1,0)+IF(O45>Q45,1,0)+IF(R45>T45,1,0)+IF(U45>W45,1,0)+IF(X45>Z45,1,0)","v":0},":",{"$f":"IF(L45<N45,1,0)+IF(O45<Q45,1,0)+IF(R45<T45,1,0)+IF(U45<W45,1,0)+IF(X45<Z45,1,0)","v":0},{"$f":"IF(AA45=0,0,IF(AA45>AC45,2,IF(AA45=AC45,IF(AG45>AI45,2,0),0)))","v":0},":",{"$f":"IF(AC45=0,0,IF(AC45>AA45,2,IF(AC45=AA45,IF(AI45>AG45,2,0),0)))","v":0},{"$f":"SUM(L45+O45+R45+U45+X45)","v":0},":",{"$f":"SUM(N45+Q45+T45+W45+Z45)","v":0}]
[null,null,null,"V 19",null,null,null,"V 20"]
[]
["Finale"]
[]
["Spielnr.","Feld","SR","Spielparungen",null,null,null,null,null,null,null,"1.Satz",null,null,"2.Satz",null,null,"3.Satz",null,null,"4. Satz",null,null,"5. Satz",null,null,"Sätze",null,null,"Punkte",null,null,"Bälle"]
[26,3,{"$f":"IF(AA29<AC29,D29,H29)","v":"9"},{"$f":"IF(AD37>AF37,D37,H37)","v":"7"},null,null,":",{"$f":"IF(AD39>AF39,D39,H39)","v":"8"},null,null,null,null,":",null,null,":",null,null,":",null,null,":",null,null,":",null,{"$f":"IF(L51>N51,1,0)+IF(O51>Q51,1,0)+IF(R51>T51,1,0)+IF(U51>W51,1,0)+IF(X51>Z51,1,0)","v":0},":",{"$f":"IF(L51<N51,1,0)+IF(O51<Q51,1,0)+IF(R51<T51,1,0)+IF(U51<W51,1,0)+IF(X51<Z51,1,0)","v":0},{"$f":"IF(AA51=0,0,IF(AA51>AC51,2,IF(AA51=AC51,IF(AG51>AI51,2,0),0)))","v":0},":",{"$f":"IF(AC51=0,0,IF(AC51>AA51,2,IF(AC51=AA51,IF(AI51>AG51,2,0),0)))","v":0},{"$f":"SUM(L51+O51+R51+U51+X51)","v":0},":",{"$f":"SUM(N51+Q51+T51+W51+Z51)","v":0}]
[null,null,null,"S 19",null,null,null,"S 20"]

{"sheet":"Spielplan","index":3,"n_rows":20,"n_cols":13,"rows_kept":20,"cut":false,"hidden":false,"merged":[[6,1,6,4],[6,5,6,8],[6,9,6,12],[0,0,0,12],[2,0,2,12],[4,0,4,12]]}
[{"$f":"Mannschaften!$A$1","v":"Turniername"}]
[]
[{"$f":"Mannschaften!$A$3","v":"Volleyball Hallenturnier"}]
[]
[{"$f":"Mannschaften!$A$5","v":"Termin/Ort"}]
[]
[null,"Feld 1",null,null,null,"Feld 2",null,null,null,"Feld 3"]
["Uhrzeit","Spielnr.","Mannschaft 1","Mannschaft 2","Schiri","Spielnr.","Mannschaft 1","Mannschaft 2","Schiri","Spielnr.","Mannschaft 1","Mannschft 2","Schiri"]
[]
["10:00:00",1,{"$f":"Vorrunde!$D$24","v":1},{"$f":"Vorrunde!$H$24","v":"2"},{"$f":"Vorrunde!$C$24","v":"8"},2,{"$f":"Vorrunde!$D$25","v":"3"},{"$f":"Vorrunde!$H$25","v":"4"},{"$f":"Vorrunde!$C$25","v":"9"},3,{"$f":"Vorrunde!$D$38","v":"6"},{"$f":"Vorrunde!$H$38","v":"7"},{"$f":"Vorrunde!$C$38","v":"5"}]
["10:45:00",4,{"$f":"Vorrunde!$D$26","v":1},{"$f":"Vorrunde!$H$26","v":"5"},{"$f":"Vorrunde!$C$26","v":"6"},5,{"$f":"Vorrunde!$D$27","v":"2"},{"$f":"Vorrunde!$H$27","v":"3"},{"$f":"Vorrunde!$C$27","v":"7"},6,{"$f":"Vorrunde!$D$39","v":"8"},{"$f":"Vorrunde!$H$39","v":"9"},{"$f":"Vorrunde!$C$39","v":"4"}]
["11:30:00",7,{"$f":"Vorrunde!$D$28","v":"4"},{"$f":"Vorrunde!$H$28","v":"5"},{"$f":"Vorrunde!$C$28","v":"7"},8,{"$f":"Vorrunde!$D$29","v":1},{"$f":"Vorrunde!$H$29","v":"3"},{"$f":"Vorrunde!$C$29","v":"9"},9,{"$f":"Vorrunde!$D$40","v":"6"},{"$f":"Vorrunde!$H$40","v":"8"},{"$f":"Vorrunde!$C$40","v":"2"}]
["12:15:00",10,{"$f":"Vorrunde!$D$30","v":"2"},{"$f":"Vorrunde!$H$30","v":"4"},{"$f":"Vorrunde!$C$30","v":"6"},11,{"$f":"Vorrunde!$D$31","v":"3"},{"$f":"Vorrunde!$H$31","v":"5"},{"$f":"Vorrunde!$C$31","v":"8"},12,{"$f":"Vorrunde!$D$41","v":"7"},{"$f":"Vorrunde!$H$41","v":"9"},{"$f":"Vorrunde!$C$41","v":1}]
["13:00:00",13,{"$f":"Vorrunde!$D$32","v":1},{"$f":"Vorrunde!$H$32","v":"4"},{"$f":"Vorrunde!$C$32","v":"2"},14,{"$f":"Vorrunde!$D$42","v":"6"},{"$f":"Vorrunde!$H$42","v":"9"},{"$f":"Vorrunde!$C$42","v":"3"},15,{"$f":"Vorrunde!$D$43","v":"7"},{"$f":"Vorrunde!$H$43","v":"8"},{"$f":"Vorrunde!$C$43","v":"5"}]
["13:45:00",null,null,null,null,16,{"$f":"Vorrunde!$D$33","v":"2"},{"$f":"Vorrunde!$H$33","v":"5"},{"$f":"Vorrunde!$C$33","v":"4"}]
[]
["14:30:00",17,{"$f":"Finalrunde!$D$11","v":"5"},{"$f":"Finalrunde!$H$11","v":"6"},{"$f":"Finalrunde!$C$11","v":"3"},null,null,null,null,18,{"$f":"Finalrunde!$D$13","v":"4"},{"$f":"Finalrunde!$H$13","v":"9"},{"$f":"Finalrunde!$C$13","v":"7"}]
["15:15:00",19,{"$f":"Finalrunde!$D$37","v":1},{"$f":"Finalrunde!$H$37","v":"7"},{"$f":"Finalrunde!$C$37","v":"6"},20,{"$f":"Finalrunde!$D$39","v":"3"},{"$f":"Finalrunde!$H$39","v":"8"},{"$f":"Finalrunde!$C$39","v":"9"},21,{"$f":"Finalrunde!$D$19","v":"2"},{"$f":"Finalrunde!$H$19","v":"6"},{"$f":"Finalrunde!$C$19","v":"9"}]
["16:00:00",24,{"$f":"Finalrunde!$D$29","v":"6"},{"$f":"Finalrunde!$H$29","v":"9"},{"$f":"Finalrunde!$C$29","v":"7"},25,{"$f":"Finalrunde!$D$45","v":"7"},{"$f":"Finalrunde!$H$45","v":"8"},{"$f":"Finalrunde!$C$45","v":"8"},22,{"$f":"Finalrunde!$D$21","v":"2"},{"$f":"Finalrunde!$H$21","v":"9"},{"$f":"Finalrunde!$C$21","v":"6"}]
["16:45:00",26,{"$f":"Finalrunde!$D$51","v":"7"},{"$f":"Finalrunde!$H$51","v":"8"},{"$f":"Finalrunde!$C$51","v":"9"},null,null,null,null,23,{"$f":"Finalrunde!$D$23","v":"6"},{"$f":"Finalrunde!$H$23","v":"9"},{"$f":"Finalrunde!$C$23","v":"2"}]

{"sheet":"Spielberichtsbogen blanko","index":4,"n_rows":33,"n_cols":44,"rows_kept":33,"cut":false,"hidden":false,"merged":[[0,30,0,43],[0,15,0,28],[0,0,0,13],[2,1,2,3],[2,7,2,10],[2,16,2,18],[2,22,2,25],[2,31,2,33],[2,37,2,40]]}
[{"$f":"Mannschaften!$A$1","v":"Turniername"},null,null,null,null,null,null,null,null,null,null,null,null,null,null,{"$f":"A1","v":"Turniername"},null,null,null,null,null,null,null,null,null,null,null,null,null,null,{"$f":"A1","v":"Turniername"}]
[]
[null,"Feld:",null,null,"A",null,null,"Spiel-Nr.:",null,null,null,null,null,null,null,null,"Feld:",null,null,"B",null,null,"Spiel-Nr.:",null,null,null,null,null,null,null,null,"Feld:",null,null,"C",null,null,"Spiel-Nr.:"]
[]
["SPIELPAARUNG",null,null,null,null,null,null,null,null,null,null,null,null,null,null,"SPIELPAARUNG",null,null,null,null,null,null,null,null,null,null,null,null,null,null,"SPIELPAARUNG"]
[]
["A",null,null,null,null,null,null,"B",null,null,null,null,null,null,null,"A",null,null,null,null,null,null,"B",null,null,null,null,null,null,null,"A",null,null,null,null,null,null,"B"]
[]
["1.","Satz",null,null,null,null,null,null,null,null,null,null,null,null,null,"1.","Satz",null,null,null,null,null,null,null,null,null,null,null,null,null,"1.","Satz"]
[1,6,11,16,21,26,31,1,6,11,16,21,26,31,null,1,6,11,16,21,26,31,1,6,11,16,21,26,31,null,1,6,11,16,21,26,31,1,6,11,16,21,26,31]
[2,7,12,17,22,27,32,2,7,12,17,22,27,32,null,2,7,12,17,22,27,32,2,7,12,17,22,27,32,null,2,7,12,17,22,27,32,2,7,12,17,22,27,32]
[3,8,13,18,23,28,33,3,8,13,18,23,28,33,null,3,8,13,18,23,28,33,3,8,13,18,23,28,33,null,3,8,13,18,23,28,33,3,8,13,18,23,28,33]
[4,9,14,19,24,29,34,4,9,14,19,24,29,34,null,4,9,14,19,24,29,34,4,9,14,19,24,29,34,null,4,9,14,19,24,29,34,4,9,14,19,24,29,34]
[5,10,15,20,25,30,35,5,10,15,20,25,30,35,null,5,10,15,20,25,30,35,5,10,15,20,25,30,35,null,5,10,15,20,25,30,35,5,10,15,20,25,30,35]
[]
[" Auszeit",null,null,null,null,null,null," Auszeit",null,null,null,null,null,null,null," Auszeit",null,null,null,null,null,null," Auszeit",null,null,null,null,null,null,null," Auszeit",null,null,null,null,null,null," Auszeit"]
[]
[]
["2.","Satz",null,null,null,null,null,null,null,null,null,null,null,null,null,"2.","Satz",null,null,null,null,null,null,null,null,null,null,null,null,null,"2.","Satz"]
[1,6,11,16,21,26,31,1,6,11,16,21,26,31,null,1,6,11,16,21,26,31,1,6,11,16,21,26,31,null,1,6,11,16,21,26,31,1,6,11,16,21,26,31]
[2,7,12,17,22,27,32,2,7,12,17,22,27,32,null,2,7,12,17,22,27,32,2,7,12,17,22,27,32,null,2,7,12,17,22,27,32,2,7,12,17,22,27,32]
[3,8,13,18,23,28,33,3,8,13,18,23,28,33,null,3,8,13,18,23,28,33,3,8,13,18,23,28,33,null,3,8,13,18,23,28,33,3,8,13,18,23,28,33]
[4,9,14,19,24,29,34,4,9,14,19,24,29,34,null,4,9,14,19,24,29,34,4,9,14,19,24,29,34,null,4,9,14,19,24,29,34,4,9,14,19,24,29,34]
[5,10,15,20,25,30,35,5,10,15,20,25,30,35,null,5,10,15,20,25,30,35,5,10,15,20,25,30,35,null,5,10,15,20,25,30,35,5,10,15,20,25,30,35]
[]
[" Auszeit",null,null,null,null,null,null," Auszeit",null,null,null,null,null,null,null," Auszeit",null,null,null,null,null,null," Auszeit",null,null,null,null,null,null,null," Auszeit",null,null,null,null,null,null," Auszeit"]
[]
[" Ergebnisse",null,null,"A",null,"B",null," Spielführer",null,null,null,null,null,null,null," Ergebnisse",null,null,"A",null,"B",null," Spielführer",null,null,null,null,null,null,null," Ergebnisse",null,null,"A",null,"B",null," Spielführer"]
[" 1. Satz",null,null,null,null,null,null," A",null,null,null,null,null,null,null," 1. Satz",null,null,null,null,null,null," A",null,null,null,null,null,null,null," 1. Satz",null,null,null,null,null,null," A"]
[" 2. Satz",null,null,null,null,null,null," B",null,null,null,null,null,null,null," 2. Satz",null,null,null,null,null,null," B",null,null,null,null,null,null,null," 2. Satz",null,null,null,null,null,null," B"]
[" Punkte",null,null,null,null,null,null," Schiri",null,null,null,null,null,null,null," Punkte",null,null,null,null,null,null," Schiri",null,null,null,null,null,null,null," Punkte",null,null,null,null,null,null," Schiri"]
[" Sätze",null,null,null,null,null,null," Sieger",null,null,null,null,null,null,null," Sätze",null,null,null,null,null,null," Sieger",null,null,null,null,null,null,null," Sätze",null,null,null,null,null,null," Sieger"]
[" Bälle",null,null,null,null,null,null,null,null,null,null,null,null,null,null," Bälle",null,null,null,null,null,null,null,null,null,null,null,null,null,null," Bälle"]